BEGIN:VCALENDAR
VERSION:2.0
PRODID:-//.EGOV RS - ECPv6.10.1//NONSGML v1.0//EN
CALSCALE:GREGORIAN
METHOD:PUBLISH
X-ORIGINAL-URL:https://escoladegoverno.rs.gov.br
X-WR-CALDESC:Eventos para .EGOV RS
REFRESH-INTERVAL;VALUE=DURATION:PT1H
X-Robots-Tag:noindex
X-PUBLISHED-TTL:PT1H
BEGIN:VTIMEZONE
TZID:America/Sao_Paulo
BEGIN:STANDARD
TZOFFSETFROM:-0300
TZOFFSETTO:-0300
TZNAME:-03
DTSTART:20240101T000000
END:STANDARD
END:VTIMEZONE
BEGIN:VEVENT
DTSTART;VALUE=DATE:20240912
DTEND;VALUE=DATE:20241013
DTSTAMP:20260419T144021
CREATED:20240827T140052Z
LAST-MODIFIED:20240827T141400Z
UID:7153-1726099200-1728777599@escoladegoverno.rs.gov.br
SUMMARY:Trilha Gestão de Projetos – Curso V – Riscos em Projetos
DESCRIPTION:Trilha Gestão de Projetos – Curso V – Riscos em Projetos\nObjetivo:  \n\nFalar sobre o Gerenciamento dos Riscos em Projetos no Setor Público\, trazendo exemplos reais com o uso de ferramentas\, além do referencial teórico.\n\nPúblico-Alvo/quantidade de pessoas:   \nServidores públicos do poder executivo do RS.
URL:https://escoladegoverno.rs.gov.br/event/trilha-gestao-de-projetos-curso-v-riscos-em-projetos/
CATEGORIES:Curso,Home,Trilha Gestão de Projetos - Curso V - Riscos em Projetos
ATTACH;FMTTYPE=image/png:https://escoladegoverno.rs.gov.br/wp-content/uploads/2024/08/Imagem-pro-site-10.png
ORGANIZER;CN="EGOV RS":MAILTO:redeescoladegoverno@planejamento.rs.gov.br
END:VEVENT
END:VCALENDAR