BEGIN:VCALENDAR
VERSION:2.0
PRODID:-//.EGOV RS - ECPv6.10.1//NONSGML v1.0//EN
CALSCALE:GREGORIAN
METHOD:PUBLISH
X-ORIGINAL-URL:https://escoladegoverno.rs.gov.br
X-WR-CALDESC:Eventos para .EGOV RS
REFRESH-INTERVAL;VALUE=DURATION:PT1H
X-Robots-Tag:noindex
X-PUBLISHED-TTL:PT1H
BEGIN:VTIMEZONE
TZID:America/Sao_Paulo
BEGIN:STANDARD
TZOFFSETFROM:-0300
TZOFFSETTO:-0300
TZNAME:-03
DTSTART:20250101T000000
END:STANDARD
END:VTIMEZONE
BEGIN:VEVENT
DTSTART;TZID=America/Sao_Paulo:20250506T000000
DTEND;TZID=America/Sao_Paulo:20260422T233000
DTSTAMP:20260421T213134
CREATED:20250530T141049Z
LAST-MODIFIED:20250530T141049Z
UID:13145-1746489600-1776900600@escoladegoverno.rs.gov.br
SUMMARY:Compreendendo a Nova Lei de Licitações e Contratos T2/2025
DESCRIPTION:
URL:https://escoladegoverno.rs.gov.br/event/compreendendo-a-nova-lei-de-licitacoes-e-contratos-t2-2025/
CATEGORIES:Curso,Eventos,Home
ATTACH;FMTTYPE=image/png:https://escoladegoverno.rs.gov.br/wp-content/uploads/2024/12/Compreendendo-a-Nova-Lei-de-Licitacoes.png
END:VEVENT
BEGIN:VEVENT
DTSTART;TZID=America/Sao_Paulo:20250515T000000
DTEND;TZID=America/Sao_Paulo:20260623T233000
DTSTAMP:20260421T213134
CREATED:20250505T142412Z
LAST-MODIFIED:20250505T142412Z
UID:12861-1747267200-1782257400@escoladegoverno.rs.gov.br
SUMMARY:Noções de Gestão Documental para agentes públicos do RS T1/2025
DESCRIPTION:Por que é importante?\nPara otimizar a forma de produzir documentos\, reduzir custos e o volume de armazenamento físico\, preservar a memória\, e uniformizar os processos a partir da gestão de documentos.\nVocê será capaz de:\nConhecer um pouco sobre o Arquivo Público do Estado do Rio Grande do Sul (APERS) e o Sistema de Arquivos do Estado do Rio Grande do Sul (SIARQ/RS); Perceber a produção documental no âmbito da administração pública\, um pouco da história\, memória e do patrimônio documental; Compreender a organização dos métodos e rotinas de trabalho na realização da gestão documental no âmbito das políticas de arquivo do Estado.\nO que você vai aprender e conhecer?\nCapacitar os participantes para conhecer e compreender a organização e os métodos que envolvem a gestão documental no âmbito da administração pública estadual\, garantindo a integridade\, acessibilidade e segurança das informações\, contribuindo para a melhoria contínua dos processos.
URL:https://escoladegoverno.rs.gov.br/event/nocoes-de-gestao-documental-para-agentes-publicos-do-rs-t1-2025/
CATEGORIES:Curso,Eventos,Home
ATTACH;FMTTYPE=image/png:https://escoladegoverno.rs.gov.br/wp-content/uploads/2024/09/Imagem-pro-site-13-1.png
END:VEVENT
BEGIN:VEVENT
DTSTART;TZID=America/Sao_Paulo:20250515T000000
DTEND;TZID=America/Sao_Paulo:20260515T233000
DTSTAMP:20260421T213134
CREATED:20250505T143241Z
LAST-MODIFIED:20250505T143241Z
UID:12865-1747267200-1778887800@escoladegoverno.rs.gov.br
SUMMARY:Desenvolvimento de Competências – Inovação
DESCRIPTION:Por que é importante?\nEsta solução educacional faz parte do Cardápio de cursos sobre as competências essenciais da Matriz de Competências do RS\, em que a Inovação é uma dessas competências essenciais. Com isso\, o curso tem alta importância pela necessidade de desenvolver comportamentos inovadores dos servidores públicos\, pertinentes com a Matriz elaborada no RS.\nVocê será capaz de:\nAplicar comportamentos inovadores no ambiente do setor público e compreender a inovação como uma competência essencial para o estado do RS\, desenvolvendo uma mentalidade capaz de propor soluções criativas\, aprimorar processos e gerar melhorias na gestão pública.\nO que você vai aprender e conhecer?\nDesenvolver comportamentos inovadores nos servidores públicos do RS\, alinhados à Matriz de Competências Essenciais do RS.
URL:https://escoladegoverno.rs.gov.br/event/desenvolvimento-de-competencias-inovacao/
CATEGORIES:Curso,Eventos,Home
ATTACH;FMTTYPE=image/png:https://escoladegoverno.rs.gov.br/wp-content/uploads/2025/02/Inovacao.png
END:VEVENT
BEGIN:VEVENT
DTSTART;TZID=America/Sao_Paulo:20250515T000000
DTEND;TZID=America/Sao_Paulo:20260715T233000
DTSTAMP:20260421T213134
CREATED:20250505T143429Z
LAST-MODIFIED:20250505T143429Z
UID:12867-1747267200-1784158200@escoladegoverno.rs.gov.br
SUMMARY:Desenvolvimento de Competências – Inovação
DESCRIPTION:Por que é importante?\nEsta solução educacional faz parte do Cardápio de cursos sobre as competências essenciais da Matriz de Competências do RS\, em que a Inovação é uma dessas competências essenciais. Com isso\, o curso tem alta importância pela necessidade de desenvolver comportamentos inovadores dos servidores públicos\, pertinentes com a Matriz elaborada no RS.\nVocê será capaz de:\nAplicar comportamentos inovadores no ambiente do setor público e compreender a inovação como uma competência essencial para o estado do RS\, desenvolvendo uma mentalidade capaz de propor soluções criativas\, aprimorar processos e gerar melhorias na gestão pública.\nO que você vai aprender e conhecer?\nDesenvolver comportamentos inovadores nos servidores públicos do RS\, alinhados à Matriz de Competências Essenciais do RS.
URL:https://escoladegoverno.rs.gov.br/event/desenvolvimento-de-competencias-inovacao-2/
CATEGORIES:Curso,Eventos,Home
ATTACH;FMTTYPE=image/png:https://escoladegoverno.rs.gov.br/wp-content/uploads/2025/02/Inovacao.png
END:VEVENT
BEGIN:VEVENT
DTSTART;TZID=America/Sao_Paulo:20250924T000000
DTEND;TZID=America/Sao_Paulo:20260924T233000
DTSTAMP:20260421T213134
CREATED:20250924T120327Z
LAST-MODIFIED:20250924T120418Z
UID:17595-1758672000-1790292600@escoladegoverno.rs.gov.br
SUMMARY:SME - Sistema de Monitoramento Estratégico - T3/2025
DESCRIPTION:Por que é importante?\nO Sistema de Monitoramento Estratégico (SME) é uma ferramenta crucial para a gestão e acompanhamento de metas\, projetos e indicadores no Estado do Rio Grande do Sul. A sua implementação visa aprimorar a eficiência e a transparência na administração pública\, oferecendo um suporte robusto para a tomada de decisões baseadas em dados. No entanto\, a eficácia do SME depende diretamente da capacidade dos servidores públicos de utilizar a ferramenta de forma adequada e eficiente. Observa-se uma lacuna significativa na formação e capacitação dos servidores quanto às funcionalidades e melhores práticas de uso do SME. Esse cenário pode comprometer o pleno aproveitamento do sistema e\, consequentemente\, a eficiência na gestão de projetos e indicadores.\nVocê será capaz de:\nPlanejar\, implementar e avaliar projetos de administração pública de forma eficaz e estratégica\, utilizando o Sistema de Monitoramento Estratégico (SME) como uma ferramenta essencial para a gestão integrada e o acompanhamento contínuo do processo.\nO que você vai aprender e conhecer?\nCapacitar servidores públicos do Rio Grande do Sul para utilizar o Sistema de Monitoramento Estratégico (SME)\, aprimorando suas habilidades na gestão\, análise e tomada de decisões baseadas em dados estratégicos.
URL:https://escoladegoverno.rs.gov.br/event/sme-sistema-de-monitoramento-estrategico-t3-2025/
CATEGORIES:Curso,Eventos,Home
ATTACH;FMTTYPE=image/png:https://escoladegoverno.rs.gov.br/wp-content/uploads/2024/12/Imagem-pro-site-6.png
END:VEVENT
BEGIN:VEVENT
DTSTART;TZID=America/Sao_Paulo:20251124T080000
DTEND;TZID=America/Sao_Paulo:20260124T233000
DTSTAMP:20260421T213134
CREATED:20251103T165707Z
LAST-MODIFIED:20251118T121027Z
UID:19077-1763971200-1769297400@escoladegoverno.rs.gov.br
SUMMARY:Noções Básicas de Políticas Públicas - T1/2025 - EAD
DESCRIPTION:
URL:https://escoladegoverno.rs.gov.br/event/nocoes-basicas-de-politicas-publicas-t1-2025-ead/
CATEGORIES:Curso,Eventos,Home
ATTACH;FMTTYPE=image/png:https://escoladegoverno.rs.gov.br/wp-content/uploads/2025/10/Imagens-para-o-Site-2.png
END:VEVENT
BEGIN:VEVENT
DTSTART;TZID=America/Sao_Paulo:20260119T080000
DTEND;TZID=America/Sao_Paulo:20260119T170000
DTSTAMP:20260421T213134
CREATED:20260108T132941Z
LAST-MODIFIED:20260108T132941Z
UID:21044-1768809600-1768842000@escoladegoverno.rs.gov.br
SUMMARY:SME - Sistema de Monitoramento Estratégico - Turma 1/2026
DESCRIPTION:
URL:https://escoladegoverno.rs.gov.br/event/sme-sistema-de-monitoramento-estrategico-turma-1-2026/
CATEGORIES:EGOV MEET,Eventos,Home,Palestra
ATTACH;FMTTYPE=image/jpeg:https://escoladegoverno.rs.gov.br/wp-content/uploads/2026/01/sme.jpg
END:VEVENT
BEGIN:VEVENT
DTSTART;TZID=America/Sao_Paulo:20260121T080000
DTEND;TZID=America/Sao_Paulo:20260121T170000
DTSTAMP:20260421T213134
CREATED:20260108T131216Z
LAST-MODIFIED:20260108T131301Z
UID:21038-1768982400-1769014800@escoladegoverno.rs.gov.br
SUMMARY:Desenvolvimento de Competências - Inovação - Turma 1/2026
DESCRIPTION:
URL:https://escoladegoverno.rs.gov.br/event/desenvolvimento-de-competencias-inovacao-turma-1-2026/
CATEGORIES:EGOV MEET,Eventos,Home,Palestra
ATTACH;FMTTYPE=image/jpeg:https://escoladegoverno.rs.gov.br/wp-content/uploads/2026/01/inovacao.jpeg
END:VEVENT
BEGIN:VEVENT
DTSTART;TZID=America/Sao_Paulo:20260123T110000
DTEND;TZID=America/Sao_Paulo:20260123T120000
DTSTAMP:20260421T213134
CREATED:20260109T183433Z
LAST-MODIFIED:20260123T122436Z
UID:21110-1769166000-1769169600@escoladegoverno.rs.gov.br
SUMMARY:Egov Meet - Projeto Talentos Públicos RS - Trajetórias
DESCRIPTION:
URL:https://escoladegoverno.rs.gov.br/event/egov-meet-projeto-talentos-publicos-rs-trajetorias/
CATEGORIES:Curso,Eventos,Home
ATTACH;FMTTYPE=image/png:https://escoladegoverno.rs.gov.br/wp-content/uploads/2026/01/Imagens-para-o-Site-3-2.png
END:VEVENT
BEGIN:VEVENT
DTSTART;TZID=America/Sao_Paulo:20260129T140000
DTEND;TZID=America/Sao_Paulo:20260129T170000
DTSTAMP:20260421T213134
CREATED:20250822T193550Z
LAST-MODIFIED:20260108T182940Z
UID:16464-1769695200-1769706000@escoladegoverno.rs.gov.br
SUMMARY:Boas Práticas em Gestão de Pessoas - Conversas que Conectam: Diálogos para Resultados
DESCRIPTION:
URL:https://escoladegoverno.rs.gov.br/event/conversas-que-conectam-dialogos-para-resultados/
CATEGORIES:Curso,Eventos,Home
ATTACH;FMTTYPE=image/png:https://escoladegoverno.rs.gov.br/wp-content/uploads/2026/01/boas-praticas.png
END:VEVENT
BEGIN:VEVENT
DTSTART;TZID=America/Sao_Paulo:20260210T150000
DTEND;TZID=America/Sao_Paulo:20260210T173000
DTSTAMP:20260421T213134
CREATED:20260123T124331Z
LAST-MODIFIED:20260129T122314Z
UID:21600-1770735600-1770744600@escoladegoverno.rs.gov.br
SUMMARY:Oratória Eficaz – T1/2026 - 1º encontro
DESCRIPTION:
URL:https://escoladegoverno.rs.gov.br/event/oratoria-eficaz-t1-2026-1o-encontro/
CATEGORIES:Curso,Eventos,Home
ATTACH;FMTTYPE=image/png:https://escoladegoverno.rs.gov.br/wp-content/uploads/2026/01/Modelo-imagem-site-Egov-RS.png
END:VEVENT
BEGIN:VEVENT
DTSTART;TZID=America/Sao_Paulo:20260212T150000
DTEND;TZID=America/Sao_Paulo:20260212T173000
DTSTAMP:20260421T213134
CREATED:20260123T124832Z
LAST-MODIFIED:20260129T121801Z
UID:21603-1770908400-1770917400@escoladegoverno.rs.gov.br
SUMMARY:Oratória Eficaz – T1/2026 - 2º encontro
DESCRIPTION:
URL:https://escoladegoverno.rs.gov.br/event/oratoria-eficaz-t1-2026-2o-encontro/
CATEGORIES:Curso,Eventos,Home
ATTACH;FMTTYPE=image/png:https://escoladegoverno.rs.gov.br/wp-content/uploads/2026/01/Modelo-imagem-site-Egov-RS.png
END:VEVENT
BEGIN:VEVENT
DTSTART;TZID=America/Sao_Paulo:20260224T140000
DTEND;TZID=America/Sao_Paulo:20260224T170000
DTSTAMP:20260421T213134
CREATED:20250822T193314Z
LAST-MODIFIED:20260108T184130Z
UID:16462-1771941600-1771952400@escoladegoverno.rs.gov.br
SUMMARY:Boas Práticas em Gestão de Pessoas - Ambientes de Confiança: Como Mediar Conflitos e Fortalecer a Segurança Psicológica nas Equipe
DESCRIPTION:
URL:https://escoladegoverno.rs.gov.br/event/ambientes-de-confianca-como-mediar-conflitos-e-fortalecer-a-seguranca-psicologica-nas-equipe/
CATEGORIES:Curso,Eventos,Home
ATTACH;FMTTYPE=image/png:https://escoladegoverno.rs.gov.br/wp-content/uploads/2026/01/boas-praticas.png
END:VEVENT
BEGIN:VEVENT
DTSTART;TZID=America/Sao_Paulo:20260226T140000
DTEND;TZID=America/Sao_Paulo:20260226T150000
DTSTAMP:20260421T213134
CREATED:20260121T133740Z
LAST-MODIFIED:20260121T133740Z
UID:21432-1772114400-1772118000@escoladegoverno.rs.gov.br
SUMMARY:Programa de Ambientação para Novos Servidores do Estado do RS – T1/2026 - Live
DESCRIPTION:
URL:https://escoladegoverno.rs.gov.br/event/programa-de-ambientacao-para-novos-servidores-do-estado-do-rs-t1-2026-live/
CATEGORIES:Curso,Eventos,Home
ATTACH;FMTTYPE=image/png:https://escoladegoverno.rs.gov.br/wp-content/uploads/2025/09/imagens-Egov-7.png
END:VEVENT
BEGIN:VEVENT
DTSTART;TZID=America/Sao_Paulo:20260316T140000
DTEND;TZID=America/Sao_Paulo:20260316T153000
DTSTAMP:20260421T213134
CREATED:20260309T183433Z
LAST-MODIFIED:20260309T190005Z
UID:23079-1773669600-1773675000@escoladegoverno.rs.gov.br
SUMMARY:Egov Meet - Projeto Talentos Públicos RS - Trajetórias: Curse Mestrado Presencial Internacional - Conheça o Edital - Edição Extra 03/2026
DESCRIPTION:
URL:https://escoladegoverno.rs.gov.br/event/egov-meet-projeto-talentos-publicos-rs-trajetorias-curse-mestrado-presencial-internacional-conheca-o-edital-edicao-extra-03-2026/
CATEGORIES:EGOV MEET,Eventos,Home
ATTACH;FMTTYPE=image/jpeg:https://escoladegoverno.rs.gov.br/wp-content/uploads/2026/03/Cabecalho-site.jpg
END:VEVENT
BEGIN:VEVENT
DTSTART;TZID=America/Sao_Paulo:20260317T140000
DTEND;TZID=America/Sao_Paulo:20260317T153000
DTSTAMP:20260421T213134
CREATED:20260303T134020Z
LAST-MODIFIED:20260303T134020Z
UID:22879-1773756000-1773761400@escoladegoverno.rs.gov.br
SUMMARY:Egov Meet - Descomplicando a Eficiência no Setor Público
DESCRIPTION:
URL:https://escoladegoverno.rs.gov.br/event/egov-meet-descomplicando-a-eficiencia-no-setor-publico/
CATEGORIES:EGOV MEET,Eventos,Home
ATTACH;FMTTYPE=image/png:https://escoladegoverno.rs.gov.br/wp-content/uploads/2026/03/Imagens-para-o-Site.png
END:VEVENT
BEGIN:VEVENT
DTSTART;TZID=America/Sao_Paulo:20260324T090000
DTEND;TZID=America/Sao_Paulo:20260324T120000
DTSTAMP:20260421T213134
CREATED:20260223T190620Z
LAST-MODIFIED:20260223T192204Z
UID:22551-1774342800-1774353600@escoladegoverno.rs.gov.br
SUMMARY:Inteligência Artificial na Gestão Pública - T2/2026 - Aula 1
DESCRIPTION:
URL:https://escoladegoverno.rs.gov.br/event/inteligencia-artificial-na-gestao-publica-t2-2026-aula-1/
CATEGORIES:Curso,Eventos,Home
ATTACH;FMTTYPE=image/png:https://escoladegoverno.rs.gov.br/wp-content/uploads/2026/02/Imagens-para-o-Site-1-1.png
END:VEVENT
BEGIN:VEVENT
DTSTART;TZID=America/Sao_Paulo:20260324T140000
DTEND;TZID=America/Sao_Paulo:20260324T170000
DTSTAMP:20260421T213134
CREATED:20250908T120213Z
LAST-MODIFIED:20260226T194106Z
UID:17135-1774360800-1774371600@escoladegoverno.rs.gov.br
SUMMARY:Boas Práticas em Gestão de Pessoas - Clima que Transforma: Construnido Equipes Fortes\, Integradas e de Alta Performance
DESCRIPTION:
URL:https://escoladegoverno.rs.gov.br/event/boas-praticas-em-gestao-de-pessoas-clima-que-transforma-construnido-equipes-fortes-integradas-e-de-alta-performance/
CATEGORIES:Curso,Eventos,Home
ATTACH;FMTTYPE=image/png:https://escoladegoverno.rs.gov.br/wp-content/uploads/2025/08/imagens-Egov-7.png
END:VEVENT
BEGIN:VEVENT
DTSTART;TZID=America/Sao_Paulo:20260330T080000
DTEND;TZID=America/Sao_Paulo:20260518T233000
DTSTAMP:20260421T213134
CREATED:20260309T190229Z
LAST-MODIFIED:20260309T190229Z
UID:23108-1774857600-1779147000@escoladegoverno.rs.gov.br
SUMMARY:Noções Básicas de Políticas Públicas - T1/2026
DESCRIPTION:
URL:https://escoladegoverno.rs.gov.br/event/nocoes-basicas-de-politicas-publicas-t1-2026/
CATEGORIES:Curso,Eventos,Home
ATTACH;FMTTYPE=image/png:https://escoladegoverno.rs.gov.br/wp-content/uploads/2025/10/Imagens-para-o-Site-2.png
END:VEVENT
BEGIN:VEVENT
DTSTART;TZID=America/Sao_Paulo:20260331T090000
DTEND;TZID=America/Sao_Paulo:20260331T120000
DTSTAMP:20260421T213134
CREATED:20260223T190826Z
LAST-MODIFIED:20260223T192104Z
UID:22555-1774947600-1774958400@escoladegoverno.rs.gov.br
SUMMARY:Inteligência Artificial na Gestão Pública - T2/2026 - Aula 2
DESCRIPTION:
URL:https://escoladegoverno.rs.gov.br/event/inteligencia-artificial-na-gestao-publica-t2-2026-aula-2/
CATEGORIES:Curso,Eventos,Home
ATTACH;FMTTYPE=image/png:https://escoladegoverno.rs.gov.br/wp-content/uploads/2026/02/Imagens-para-o-Site-1-1.png
END:VEVENT
BEGIN:VEVENT
DTSTART;TZID=America/Sao_Paulo:20260407T090000
DTEND;TZID=America/Sao_Paulo:20260407T110000
DTSTAMP:20260421T213134
CREATED:20260223T191030Z
LAST-MODIFIED:20260223T192001Z
UID:22560-1775552400-1775559600@escoladegoverno.rs.gov.br
SUMMARY:Inteligência Artificial na Gestão Pública - T2/2026 - Aula 3
DESCRIPTION:
URL:https://escoladegoverno.rs.gov.br/event/inteligencia-artificial-na-gestao-publica-t2-2026-aula-3/
CATEGORIES:Curso,Eventos,Home
ATTACH;FMTTYPE=image/png:https://escoladegoverno.rs.gov.br/wp-content/uploads/2026/02/Imagens-para-o-Site-1-1.png
END:VEVENT
BEGIN:VEVENT
DTSTART;TZID=America/Sao_Paulo:20260415T080000
DTEND;TZID=America/Sao_Paulo:20261231T233000
DTSTAMP:20260421T213134
CREATED:20260414T114331Z
LAST-MODIFIED:20260415T132049Z
UID:23756-1776240000-1798759800@escoladegoverno.rs.gov.br
SUMMARY:SEI RS - Sistema Eletrônico de Informações - T1/2026 - EAD
DESCRIPTION:
URL:https://escoladegoverno.rs.gov.br/event/sei-sistema-eletronico-de-informacoes-t1-2026-ead/
CATEGORIES:Curso,Home
ATTACH;FMTTYPE=image/png:https://escoladegoverno.rs.gov.br/wp-content/uploads/2026/04/Site-EGOV-imagens-3.png
END:VEVENT
BEGIN:VEVENT
DTSTART;TZID=America/Sao_Paulo:20260415T140000
DTEND;TZID=America/Sao_Paulo:20260415T153000
DTSTAMP:20260421T213134
CREATED:20260326T161500Z
LAST-MODIFIED:20260326T161500Z
UID:23358-1776261600-1776267000@escoladegoverno.rs.gov.br
SUMMARY:EGov Meet - Visão Sistêmica na Gestão Pública
DESCRIPTION:
URL:https://escoladegoverno.rs.gov.br/event/egov-meet-visao-sistemica-na-gestao-publica/
CATEGORIES:Curso,Eventos,Home
ATTACH;FMTTYPE=image/png:https://escoladegoverno.rs.gov.br/wp-content/uploads/2026/03/Imagens-para-o-Site-1.png
END:VEVENT
BEGIN:VEVENT
DTSTART;TZID=America/Sao_Paulo:20260416T080000
DTEND;TZID=America/Sao_Paulo:20260521T233000
DTSTAMP:20260421T213134
CREATED:20260327T182902Z
LAST-MODIFIED:20260327T192423Z
UID:23403-1776326400-1779406200@escoladegoverno.rs.gov.br
SUMMARY:Introdução à Assistência Digital com IA Generativa - T1/2026
DESCRIPTION:
URL:https://escoladegoverno.rs.gov.br/event/introducao-a-assistencia-digital-com-ia-generativa-t1-2026/
CATEGORIES:Curso,Eventos,Home
ATTACH;FMTTYPE=image/png:https://escoladegoverno.rs.gov.br/wp-content/uploads/2026/03/Imagens-para-o-Site-6.png
END:VEVENT
BEGIN:VEVENT
DTSTART;TZID=America/Sao_Paulo:20260416T140000
DTEND;TZID=America/Sao_Paulo:20260416T153000
DTSTAMP:20260421T213134
CREATED:20260331T192802Z
LAST-MODIFIED:20260414T133928Z
UID:23501-1776348000-1776353400@escoladegoverno.rs.gov.br
SUMMARY:Aposentadoria e seus impactos psicossociais na saúde e bem-estar na maturidade - T1/2026
DESCRIPTION:
URL:https://escoladegoverno.rs.gov.br/event/aposentadoria-e-seus-impactos-psicossociais-na-saude-e-bem-estar-na-maturidade-t1-2026/
CATEGORIES:Curso,Eventos,Home
ATTACH;FMTTYPE=image/png:https://escoladegoverno.rs.gov.br/wp-content/uploads/2026/04/Imagens-para-o-Site-10.png
END:VEVENT
BEGIN:VEVENT
DTSTART;TZID=America/Sao_Paulo:20260416T150000
DTEND;TZID=America/Sao_Paulo:20260416T163000
DTSTAMP:20260421T213134
CREATED:20260331T160506Z
LAST-MODIFIED:20260331T182934Z
UID:23465-1776351600-1776357000@escoladegoverno.rs.gov.br
SUMMARY:Live: Gestão e Fiscalização de Contratos - Desafios do Dia a Dia - T1/2026
DESCRIPTION:
URL:https://escoladegoverno.rs.gov.br/event/live-gestao-e-fiscalizacao-de-contratos-desafios-do-dia-a-dia-t1-2026/
CATEGORIES:Curso,Home
ATTACH;FMTTYPE=image/png:https://escoladegoverno.rs.gov.br/wp-content/uploads/2026/03/Imagens-para-o-Site-8.png
END:VEVENT
BEGIN:VEVENT
DTSTART;TZID=America/Sao_Paulo:20260424T080000
DTEND;TZID=America/Sao_Paulo:20260608T233000
DTSTAMP:20260421T213134
CREATED:20260327T155851Z
LAST-MODIFIED:20260331T160338Z
UID:23370-1777017600-1780961400@escoladegoverno.rs.gov.br
SUMMARY:Compreendendo a Lei 14.133/21- Licitações e Contratos - T1/2026
DESCRIPTION:
URL:https://escoladegoverno.rs.gov.br/event/compreendendo-a-lei-14-133-21-licitacoes-e-contratos-t1-2026/
CATEGORIES:Curso,Home
ATTACH;FMTTYPE=image/png:https://escoladegoverno.rs.gov.br/wp-content/uploads/2026/03/Imagens-para-o-Site-8.png
END:VEVENT
BEGIN:VEVENT
DTSTART;TZID=America/Sao_Paulo:20260427T080000
DTEND;TZID=America/Sao_Paulo:20260511T233000
DTSTAMP:20260421T213134
CREATED:20260327T160855Z
LAST-MODIFIED:20260327T170454Z
UID:23389-1777276800-1778542200@escoladegoverno.rs.gov.br
SUMMARY:Competências do Servidor - Visão Sistêmica - T1/2026
DESCRIPTION:
URL:https://escoladegoverno.rs.gov.br/event/competencias-do-servidor-visao-sistemica-t1-2026/
CATEGORIES:Curso,Home
ATTACH;FMTTYPE=image/png:https://escoladegoverno.rs.gov.br/wp-content/uploads/2026/03/Imagens-para-o-Site-1-1.png
END:VEVENT
BEGIN:VEVENT
DTSTART;TZID=America/Sao_Paulo:20260429T100000
DTEND;TZID=America/Sao_Paulo:20260429T120000
DTSTAMP:20260421T213134
CREATED:20260326T162057Z
LAST-MODIFIED:20260326T162057Z
UID:23360-1777456800-1777464000@escoladegoverno.rs.gov.br
SUMMARY:Filosofia & Liderança Aplicadas na Gestão Pública - T1/2026 - Aula 1
DESCRIPTION:
URL:https://escoladegoverno.rs.gov.br/event/filosofia-lideranca-aplicadas-na-gestao-publica-t1-2026-aula-1/
CATEGORIES:Curso,Eventos,Home
ATTACH;FMTTYPE=image/png:https://escoladegoverno.rs.gov.br/wp-content/uploads/2026/03/Filosofia.png
END:VEVENT
BEGIN:VEVENT
DTSTART;TZID=America/Sao_Paulo:20260506T100000
DTEND;TZID=America/Sao_Paulo:20260506T120000
DTSTAMP:20260421T213134
CREATED:20260326T162515Z
LAST-MODIFIED:20260326T162515Z
UID:23363-1778061600-1778068800@escoladegoverno.rs.gov.br
SUMMARY:Filosofia & Liderança Aplicadas na Gestão Pública - T1/2026 - Aula 2
DESCRIPTION:
URL:https://escoladegoverno.rs.gov.br/event/filosofia-lideranca-aplicadas-na-gestao-publica-t1-2026-aula-2/
CATEGORIES:Curso,Eventos,Home
ATTACH;FMTTYPE=image/png:https://escoladegoverno.rs.gov.br/wp-content/uploads/2026/03/Filosofia.png
END:VEVENT
END:VCALENDAR