BEGIN:VCALENDAR
VERSION:2.0
PRODID:-//.EGOV RS - ECPv6.10.1//NONSGML v1.0//EN
CALSCALE:GREGORIAN
METHOD:PUBLISH
X-WR-CALNAME:.EGOV RS
X-ORIGINAL-URL:https://escoladegoverno.rs.gov.br
X-WR-CALDESC:Eventos para .EGOV RS
REFRESH-INTERVAL;VALUE=DURATION:PT1H
X-Robots-Tag:noindex
X-PUBLISHED-TTL:PT1H
BEGIN:VTIMEZONE
TZID:America/Sao_Paulo
BEGIN:STANDARD
TZOFFSETFROM:-0300
TZOFFSETTO:-0300
TZNAME:-03
DTSTART:20240101T000000
END:STANDARD
END:VTIMEZONE
BEGIN:VEVENT
DTSTART;TZID=America/Sao_Paulo:20240905T140000
DTEND;TZID=America/Sao_Paulo:20240905T153000
DTSTAMP:20260422T015807
CREATED:20240827T130141Z
LAST-MODIFIED:20240827T130729Z
UID:7140-1725544800-1725550200@escoladegoverno.rs.gov.br
SUMMARY:EGOV Meet - Em busca do novo renascimento
DESCRIPTION:EGOV MEET Trilha Reconstrução do RS – Em Busca de um Novo Renascimento\nObjetivo:  \n\nNão importa o tamanho dos desafios\, precisamos RENASCER. O Renascimento é provavelmente o melhor exemplo a seguir para construção de um ecossistema humano virtuoso.\n\nPúblico-Alvo/quantidade de pessoas:   \nServidores públicos do poder executivo do RS.
URL:https://escoladegoverno.rs.gov.br/event/egov-meet-em-busca-do-novo-renascimento/
CATEGORIES:Curso,EGOV MEET Trilha Reconstrução do RS - Em Busca de um Novo Renascimento - 05/09/2024,Eventos,Home
ATTACH;FMTTYPE=image/png:https://escoladegoverno.rs.gov.br/wp-content/uploads/2024/08/Imagem-pro-site-12.png
ORGANIZER;CN="EGOV RS":MAILTO:redeescoladegoverno@planejamento.rs.gov.br
END:VEVENT
BEGIN:VEVENT
DTSTART;TZID=America/Sao_Paulo:20240905T140000
DTEND;TZID=America/Sao_Paulo:20240905T153000
DTSTAMP:20260422T015807
CREATED:20240905T170058Z
LAST-MODIFIED:20240827T131349Z
UID:7136-1725544800-1725550200@escoladegoverno.rs.gov.br
SUMMARY:EGOV Meet - Em busca do novo renascimento
DESCRIPTION:EGOV MEET Trilha Reconstrução do RS – Em Busca de um Novo Renascimento\nObjetivo:  \n\nNão importa o tamanho dos desafios\, precisamos RENASCER. O Renascimento é provavelmente o melhor exemplo a seguir para construção de um ecossistema humano virtuoso.\n\nPúblico-Alvo/quantidade de pessoas:   \nServidores públicos do poder executivo do RS.
URL:https://escoladegoverno.rs.gov.br/event/https-escolaplanejamento-rs-gov-br-course-view-phpid393/
CATEGORIES:Curso,EGOV MEET Trilha Reconstrução do RS - Em Busca de um Novo Renascimento - 05/09/2024,Eventos,Home
ATTACH;FMTTYPE=image/png:https://escoladegoverno.rs.gov.br/wp-content/uploads/2024/08/Imagem-pro-site-11.png
ORGANIZER;CN="EGOV RS":MAILTO:redeescoladegoverno@planejamento.rs.gov.br
END:VEVENT
END:VCALENDAR