BEGIN:VCALENDAR
VERSION:2.0
PRODID:-//.EGOV RS - ECPv6.10.1//NONSGML v1.0//EN
CALSCALE:GREGORIAN
METHOD:PUBLISH
X-WR-CALNAME:.EGOV RS
X-ORIGINAL-URL:https://escoladegoverno.rs.gov.br
X-WR-CALDESC:Eventos para .EGOV RS
REFRESH-INTERVAL;VALUE=DURATION:PT1H
X-Robots-Tag:noindex
X-PUBLISHED-TTL:PT1H
BEGIN:VTIMEZONE
TZID:America/Sao_Paulo
BEGIN:STANDARD
TZOFFSETFROM:-0300
TZOFFSETTO:-0300
TZNAME:-03
DTSTART:20240101T000000
END:STANDARD
END:VTIMEZONE
BEGIN:VEVENT
DTSTART;VALUE=DATE:20240709
DTEND;VALUE=DATE:20240710
DTSTAMP:20260422T045817
CREATED:20240624T195107Z
LAST-MODIFIED:20240626T145458Z
UID:6524-1720483200-1720569599@escoladegoverno.rs.gov.br
SUMMARY:Gestão de Projetos - Curso III: Cronograma do Projeto
DESCRIPTION:Gestão de Projetos – Curso III: Cronograma do Projeto\nObjetivo:  \n\nCapacitar servidores em posição de liderança em melhores práticas de gestão de projetos no contexto setor público.\n\nPúblico-Alvo/quantidade de pessoas:   \nServidores públicos estaduais. Ilimitado.\n.
URL:https://escoladegoverno.rs.gov.br/event/gestao-de-projetos-curso-v-riscos-em-projetos/
CATEGORIES:Curso,Eventos,Home
ATTACH;FMTTYPE=image/png:https://escoladegoverno.rs.gov.br/wp-content/uploads/2024/04/gest-projetos-2-edit-3.png
ORGANIZER;CN="EGOV RS":MAILTO:redeescoladegoverno@planejamento.rs.gov.br
END:VEVENT
BEGIN:VEVENT
DTSTART;TZID=America/Sao_Paulo:20240709T080000
DTEND;TZID=America/Sao_Paulo:20240709T233000
DTSTAMP:20260422T045817
CREATED:20240626T131239Z
LAST-MODIFIED:20240626T145546Z
UID:6533-1720512000-1720567800@escoladegoverno.rs.gov.br
SUMMARY:Monitoramento e Vigilância Sanitária de Suídeos Asselvajados no Rio Grande do Sul
DESCRIPTION:Monitoramento e Vigilância Sanitária de Suídeos Asselvajados no Rio Grande do Sul\nObjetivos:  \n\nCapacitar Agentes de Manejo Populacional de Suídeos Asselvajados (javalis)\, em relação às legislações vigentes do referido órgão.\nSupervisionar o controle ambiental dos suídeos asselavajados.\nMonitorar o Manejo populacional de espécies exóticas invasoras.\n\nPúblico-Alvo/quantidade de pessoas:   \n100 agentes externos
URL:https://escoladegoverno.rs.gov.br/event/monitoramento-e-vigilancia-sanitaria-de-suideos-asselvajados-no-rio-grande-do-sul/
CATEGORIES:Curso,Eventos,Home
ATTACH;FMTTYPE=image/jpeg:https://escoladegoverno.rs.gov.br/wp-content/uploads/2024/06/Copia-de-GIF-PARA-O-MOODLE.jpg
ORGANIZER;CN="EGOV RS":MAILTO:redeescoladegoverno@planejamento.rs.gov.br
END:VEVENT
END:VCALENDAR