BEGIN:VCALENDAR
VERSION:2.0
PRODID:-//.EGOV RS - ECPv6.10.1//NONSGML v1.0//EN
CALSCALE:GREGORIAN
METHOD:PUBLISH
X-WR-CALNAME:.EGOV RS
X-ORIGINAL-URL:https://escoladegoverno.rs.gov.br
X-WR-CALDESC:Eventos para .EGOV RS
REFRESH-INTERVAL;VALUE=DURATION:PT1H
X-Robots-Tag:noindex
X-PUBLISHED-TTL:PT1H
BEGIN:VTIMEZONE
TZID:America/Sao_Paulo
BEGIN:STANDARD
TZOFFSETFROM:-0300
TZOFFSETTO:-0300
TZNAME:-03
DTSTART:20240101T000000
END:STANDARD
END:VTIMEZONE
BEGIN:VEVENT
DTSTART;TZID=America/Sao_Paulo:20240925T080000
DTEND;TZID=America/Sao_Paulo:20241209T170000
DTSTAMP:20260421T224034
CREATED:20241008T135023Z
LAST-MODIFIED:20241008T135023Z
UID:8194-1727251200-1733763600@escoladegoverno.rs.gov.br
SUMMARY:Competências para o servidor do RS – O Líder de Si
DESCRIPTION:
URL:https://escoladegoverno.rs.gov.br/event/competencias-para-o-servidor-do-rs-o-lider-de-si/
CATEGORIES:Curso
ATTACH;FMTTYPE=image/jpeg:https://escoladegoverno.rs.gov.br/wp-content/uploads/2024/10/WhatsApp-Image-2024-10-01-at-17.03.16.jpeg
END:VEVENT
BEGIN:VEVENT
DTSTART;TZID=America/Sao_Paulo:20240925T080000
DTEND;TZID=America/Sao_Paulo:20241215T170000
DTSTAMP:20260421T224034
CREATED:20241008T135441Z
LAST-MODIFIED:20241008T135441Z
UID:8196-1727251200-1734282000@escoladegoverno.rs.gov.br
SUMMARY:Gestão de Projetos - Curso VI: Gerenciamento das Partes Interessadas
DESCRIPTION:
URL:https://escoladegoverno.rs.gov.br/event/gestao-de-projetos-curso-vi-gerenciamento-das-partes-interessadas/
CATEGORIES:Curso
ATTACH;FMTTYPE=image/jpeg:https://escoladegoverno.rs.gov.br/wp-content/uploads/2024/09/Imagem-pro-site.jpg
END:VEVENT
BEGIN:VEVENT
DTSTART;TZID=America/Sao_Paulo:20241002T080000
DTEND;TZID=America/Sao_Paulo:20241223T233000
DTSTAMP:20260421T224034
CREATED:20241008T135851Z
LAST-MODIFIED:20241008T141003Z
UID:8198-1727856000-1734996600@escoladegoverno.rs.gov.br
SUMMARY:Práticas eficazes de reuniões de trabalho
DESCRIPTION:
URL:https://escoladegoverno.rs.gov.br/event/praticas-eficazes-de-reunioes-de-trabalho/
CATEGORIES:Curso
ATTACH;FMTTYPE=image/png:https://escoladegoverno.rs.gov.br/wp-content/uploads/2024/10/Praticas-eficazes-de-reunioes-de-trabalh-1.png
END:VEVENT
BEGIN:VEVENT
DTSTART;TZID=America/Sao_Paulo:20241014T080000
DTEND;TZID=America/Sao_Paulo:20241114T230000
DTSTAMP:20260421T224034
CREATED:20241008T164917Z
LAST-MODIFIED:20241008T165913Z
UID:8206-1728892800-1731625200@escoladegoverno.rs.gov.br
SUMMARY:Trabalho e Saúde do Agente Público
DESCRIPTION:
URL:https://escoladegoverno.rs.gov.br/event/trabalho-e-saude-do-agente-publico-2/
CATEGORIES:Curso
ATTACH;FMTTYPE=image/jpeg:https://escoladegoverno.rs.gov.br/wp-content/uploads/2024/09/Trabalho-e-Saude-do-Agente-Publico-scaled.jpg
END:VEVENT
BEGIN:VEVENT
DTSTART;TZID=America/Sao_Paulo:20241105T093000
DTEND;TZID=America/Sao_Paulo:20241105T120000
DTSTAMP:20260421T224034
CREATED:20241008T170633Z
LAST-MODIFIED:20241008T170658Z
UID:8216-1730799000-1730808000@escoladegoverno.rs.gov.br
SUMMARY:Comunicação 360° - 1º encontro
DESCRIPTION:
URL:https://escoladegoverno.rs.gov.br/event/comunicacao-360/
CATEGORIES:Curso
ATTACH;FMTTYPE=image/jpeg:https://escoladegoverno.rs.gov.br/wp-content/uploads/2024/10/Image.jpeg
END:VEVENT
BEGIN:VEVENT
DTSTART;TZID=America/Sao_Paulo:20241112T093000
DTEND;TZID=America/Sao_Paulo:20241112T120000
DTSTAMP:20260421T224034
CREATED:20241008T170931Z
LAST-MODIFIED:20241008T170931Z
UID:8219-1731403800-1731412800@escoladegoverno.rs.gov.br
SUMMARY:Comunicação 360° - 2º encontro
DESCRIPTION:
URL:https://escoladegoverno.rs.gov.br/event/comunicacao-360-2o-encontro/
CATEGORIES:Curso
ATTACH;FMTTYPE=image/jpeg:https://escoladegoverno.rs.gov.br/wp-content/uploads/2024/10/Image.jpeg
END:VEVENT
BEGIN:VEVENT
DTSTART;TZID=America/Sao_Paulo:20241113T080000
DTEND;TZID=America/Sao_Paulo:20241113T120000
DTSTAMP:20260421T224034
CREATED:20241008T140532Z
LAST-MODIFIED:20241008T170327Z
UID:8202-1731484800-1731499200@escoladegoverno.rs.gov.br
SUMMARY:Práticas Eficazes de Reuniões de Trabalho - 2ª aula
DESCRIPTION:
URL:https://escoladegoverno.rs.gov.br/event/trabalho-e-saude-do-agente-publico-2a-aula/
CATEGORIES:Curso
ATTACH;FMTTYPE=image/png:https://escoladegoverno.rs.gov.br/wp-content/uploads/2024/10/Praticas-eficazes-de-reunioes-de-trabalh-1.png
END:VEVENT
BEGIN:VEVENT
DTSTART;TZID=America/Sao_Paulo:20241119T093000
DTEND;TZID=America/Sao_Paulo:20241119T120000
DTSTAMP:20260421T224034
CREATED:20241008T171113Z
LAST-MODIFIED:20241008T171157Z
UID:8221-1732008600-1732017600@escoladegoverno.rs.gov.br
SUMMARY:Comunicação 360° - 3º encontro
DESCRIPTION:
URL:https://escoladegoverno.rs.gov.br/event/comunicacao-360-3o-encontro/
CATEGORIES:Curso
ATTACH;FMTTYPE=image/jpeg:https://escoladegoverno.rs.gov.br/wp-content/uploads/2024/10/Image.jpeg
END:VEVENT
BEGIN:VEVENT
DTSTART;TZID=America/Sao_Paulo:20241121T100000
DTEND;TZID=America/Sao_Paulo:20241121T120000
DTSTAMP:20260421T224034
CREATED:20241028T141821Z
LAST-MODIFIED:20241028T141832Z
UID:9668-1732183200-1732190400@escoladegoverno.rs.gov.br
SUMMARY:Curso Filosofia & Liderança Aplicadas na Gestão Pública- 1ª aula
DESCRIPTION:Aula 01 – A Filosofia\, a Liderança e a Gestão Pública     Contribuição e relação da filosofia com desenvolvimento interpessoal e liderança na administração pública: Servir a sociedade\, olhar para a necessidade do outro. Ética\, valores morais\, liberdade. Introdução dos temas: liderar a si mesmo\, liderar equipes\, e atuação estratégica. [ Sócrates ]   
URL:https://escoladegoverno.rs.gov.br/event/curso-filosofia-lideranca-aplicadas-na-gestao-publica-1a-aula/
CATEGORIES:Curso
ATTACH;FMTTYPE=image/png:https://escoladegoverno.rs.gov.br/wp-content/uploads/2024/10/Imagem-pro-site-36.png
END:VEVENT
BEGIN:VEVENT
DTSTART;TZID=America/Sao_Paulo:20241126T093000
DTEND;TZID=America/Sao_Paulo:20241126T120000
DTSTAMP:20260421T224034
CREATED:20241008T171406Z
LAST-MODIFIED:20241008T171406Z
UID:8223-1732613400-1732622400@escoladegoverno.rs.gov.br
SUMMARY:Comunicação 360° - 4º encontro
DESCRIPTION:
URL:https://escoladegoverno.rs.gov.br/event/comunicacao-360-4o-encontro/
CATEGORIES:Curso
ATTACH;FMTTYPE=image/jpeg:https://escoladegoverno.rs.gov.br/wp-content/uploads/2024/10/Image.jpeg
END:VEVENT
BEGIN:VEVENT
DTSTART;TZID=America/Sao_Paulo:20241128T100000
DTEND;TZID=America/Sao_Paulo:20241128T120000
DTSTAMP:20260421T224034
CREATED:20241028T142009Z
LAST-MODIFIED:20241028T142009Z
UID:9670-1732788000-1732795200@escoladegoverno.rs.gov.br
SUMMARY:Curso Filosofia & Liderança Aplicadas na Gestão Pública- 2ª aula
DESCRIPTION:Aula 02 – Liderar a si mesmo\nLiderar a si mesmo: A arte de se conectar consigo mesmo. A Virtude e a Felicidade como eixos da Liderança de si mesmo\, da realização do próprio potencial e das boas relações humanas. [ Aristóteles ]
URL:https://escoladegoverno.rs.gov.br/event/curso-filosofia-lideranca-aplicadas-na-gestao-publica-2a-aula/
CATEGORIES:Curso
ATTACH;FMTTYPE=image/png:https://escoladegoverno.rs.gov.br/wp-content/uploads/2024/10/Imagem-pro-site-36.png
END:VEVENT
BEGIN:VEVENT
DTSTART;TZID=America/Sao_Paulo:20241129T080000
DTEND;TZID=America/Sao_Paulo:20241229T233000
DTSTAMP:20260421T224034
CREATED:20241009T185315Z
LAST-MODIFIED:20241009T185315Z
UID:8225-1732867200-1735515000@escoladegoverno.rs.gov.br
SUMMARY:Curso de Ergonomia
DESCRIPTION:
URL:https://escoladegoverno.rs.gov.br/event/curso-de-ergonomia/
CATEGORIES:Curso
ATTACH;FMTTYPE=image/png:https://escoladegoverno.rs.gov.br/wp-content/uploads/2024/09/Introducao-a-Ergonomia.png
END:VEVENT
END:VCALENDAR